BEGIN:VCALENDAR
VERSION:2.0
PRODID:GIGPRESS 2.0 WORDPRESS PLUGIN
CALSCALE:GREGORIAN
X-WR-TIMEZONE:Etc/GMT
METHOD:PUBLISH
BEGIN:VTIMEZONE
TZID:GMT
BEGIN:STANDARD
DTSTART:20071028T010000
TZOFFSETTO:+0000
TZOFFSETFROM:+0000
END:STANDARD
END:VTIMEZONE
BEGIN:VEVENT
SUMMARY:Giorgio Rhino at Pop Art Café
DESCRIPTION:All Ages
LOCATION:Pop Art Café\, Monthey\, CH
UID:20260501T190000Z-524-laurentmeteau85@gmail.com
URL:http://www.laurentmeteau.ch
DTSTART;VALUE=DATE-TIME;TZID=GMT:20260501T190000Z
DTEND;VALUE=DATE-TIME;TZID=GMT:20260501T190000Z
DTSTAMP:20260422T093935Z
END:VEVENT
END:VCALENDAR