BEGIN:VCALENDAR
VERSION:2.0
PRODID:GIGPRESS 2.0 WORDPRESS PLUGIN
CALSCALE:GREGORIAN
X-WR-TIMEZONE:Etc/GMT
METHOD:PUBLISH
BEGIN:VTIMEZONE
TZID:GMT
BEGIN:STANDARD
DTSTART:20071028T010000
TZOFFSETTO:+0000
TZOFFSETFROM:+0000
END:STANDARD
END:VTIMEZONE
BEGIN:VEVENT
SUMMARY:minijack at La Maladaire
DESCRIPTION:All Ages
LOCATION:La Maladaire\, La Tour-de-Peilz\, CH
UID:20260620T180000Z-523-laurentmeteau85@gmail.com
URL:http://www.laurentmeteau.ch
DTSTART;VALUE=DATE-TIME;TZID=GMT:20260620T180000Z
DTEND;VALUE=DATE-TIME;TZID=GMT:20260620T180000Z
DTSTAMP:20260420T091040Z
END:VEVENT
END:VCALENDAR